BEGIN:VCALENDAR
VERSION:2.0
PRODID:-//Diocese of Buea  - ECPv6.15.20//NONSGML v1.0//EN
CALSCALE:GREGORIAN
METHOD:PUBLISH
X-WR-CALNAME:Diocese of Buea 
X-ORIGINAL-URL:https://bueadiocese.org
X-WR-CALDESC:Events for Diocese of Buea 
REFRESH-INTERVAL;VALUE=DURATION:PT1H
X-Robots-Tag:noindex
X-PUBLISHED-TTL:PT1H
BEGIN:VTIMEZONE
TZID:UTC
BEGIN:STANDARD
TZOFFSETFROM:+0000
TZOFFSETTO:+0000
TZNAME:UTC
DTSTART:20220101T000000
END:STANDARD
END:VTIMEZONE
BEGIN:VEVENT
DTSTART;TZID=UTC:20231116T170000
DTEND;TZID=UTC:20231116T230000
DTSTAMP:20260424T052959
CREATED:20231115T091824Z
LAST-MODIFIED:20231115T091824Z
UID:2091-1700154000-1700175600@bueadiocese.org
SUMMARY:Opening Mass for the Catholic Charismatic Renewal Crusade at the Co-Cathedral field at 5 p.m.
DESCRIPTION:Opening Mass for the Catholic Charismatic Renewal Crusade at the Co-Cathedral field at 5 p.m.
URL:https://bueadiocese.org/event/opening-mass-for-the-catholic-charismatic-renewal-crusade-at-the-co-cathedral-field-at-5-p-m/
LOCATION:co-cathedral\, Molyko Buea\, Buea\, South West Region
CATEGORIES:Bishop Bibi's Program
ATTACH;FMTTYPE=image/jpeg:https://bueadiocese.org/wp-content/uploads/2023/11/sui.jpeg
END:VEVENT
BEGIN:VEVENT
DTSTART;TZID=UTC:20231012T090000
DTEND;TZID=UTC:20231012T140000
DTSTAMP:20260424T052959
CREATED:20230930T072416Z
LAST-MODIFIED:20230930T072416Z
UID:1656-1697101200-1697119200@bueadiocese.org
SUMMARY:Annual thanksgiving mass with all Diocesan Services
DESCRIPTION:Annual thanksgiving mass with all Diocesan Services scheduled to take place on October 12th 2023 at the Divine Mercy co-cathedral in Molyko
URL:https://bueadiocese.org/event/annual-thanksgiving-mass-with-all-diocesan-services/
LOCATION:South West Region
ATTACH;FMTTYPE=image/jpeg:https://bueadiocese.org/wp-content/uploads/2023/09/384559305_122140617092003975_2109785990287377407_n.jpg
END:VEVENT
END:VCALENDAR