BEGIN:VCALENDAR
VERSION:2.0
PRODID:-//Diocese of Buea  - ECPv6.15.20//NONSGML v1.0//EN
CALSCALE:GREGORIAN
METHOD:PUBLISH
X-WR-CALNAME:Diocese of Buea 
X-ORIGINAL-URL:https://bueadiocese.org
X-WR-CALDESC:Events for Diocese of Buea 
REFRESH-INTERVAL;VALUE=DURATION:PT1H
X-Robots-Tag:noindex
X-PUBLISHED-TTL:PT1H
BEGIN:VTIMEZONE
TZID:UTC
BEGIN:STANDARD
TZOFFSETFROM:+0000
TZOFFSETTO:+0000
TZNAME:UTC
DTSTART:20220101T000000
END:STANDARD
END:VTIMEZONE
BEGIN:VEVENT
DTSTART;TZID=UTC:20251005T080000
DTEND;TZID=UTC:20251010T170000
DTSTAMP:20260424T003145
CREATED:20250617T082248Z
LAST-MODIFIED:20250617T082248Z
UID:5608-1759651200-1760115600@bueadiocese.org
SUMMARY:Retreat for Priests
DESCRIPTION:Retreat for Priests at the Bishop Pius Awa memorial pastoral Centre
URL:https://bueadiocese.org/event/retreat-for-priests/
LOCATION:Bishop Pius Awa Memorial Pastoral Centre\, Molyko\, buea\, Cameroon
CATEGORIES:Diocesan event
ATTACH;FMTTYPE=image/jpeg:https://bueadiocese.org/wp-content/uploads/2025/05/513d2e32-b6f1-474a-b629-c6dc5463e08a.jpg
ORGANIZER;CN="Diocese of Buea":MAILTO:info@bueadiocese.org
END:VEVENT
BEGIN:VEVENT
DTSTART;TZID=UTC:20250801T090000
DTEND;TZID=UTC:20250801T170000
DTSTAMP:20260424T003145
CREATED:20250617T082017Z
LAST-MODIFIED:20250617T082017Z
UID:5606-1754038800-1754067600@bueadiocese.org
SUMMARY:Day of Sanctification of Priests
DESCRIPTION:Day of Sanctification of Priests at Regina pacis cathedral\, Small Soppo Buea
URL:https://bueadiocese.org/event/day-of-sanctification-of-priests/
LOCATION:Cathedral\, Small Soppo\, Small Soppo\, Buea\, South West Region\, Cameroon
CATEGORIES:Diocesan event
ATTACH;FMTTYPE=image/jpeg:https://bueadiocese.org/wp-content/uploads/2024/03/Procession.jpg
ORGANIZER;CN="Diocese of Buea":MAILTO:info@bueadiocese.org
END:VEVENT
BEGIN:VEVENT
DTSTART;TZID=UTC:20250725T090000
DTEND;TZID=UTC:20250725T170000
DTSTAMP:20260424T003145
CREATED:20250617T081755Z
LAST-MODIFIED:20250617T081756Z
UID:5603-1753434000-1753462800@bueadiocese.org
SUMMARY:25th Anniversary of priestly Ordination\, Bishop Michael Bibi
DESCRIPTION:25th Anniversary of priestly Ordination\, Bishop Michael Bibi
URL:https://bueadiocese.org/event/25th-anniversary-of-priestly-ordination-bishop-michael-bibi/
LOCATION:Divine Mercy Co-cathedral\, Molyko\, Buea\, South West Region\, Cameroon
CATEGORIES:Jubilee
ATTACH;FMTTYPE=image/jpeg:https://bueadiocese.org/wp-content/uploads/2025/05/0ec1d0a4-6242-4c3a-80c2-b5eba2ece5b6.jpg
ORGANIZER;CN="Diocese of Buea":MAILTO:info@bueadiocese.org
END:VEVENT
BEGIN:VEVENT
DTSTART;TZID=UTC:20250723T080000
DTEND;TZID=UTC:20250723T170000
DTSTAMP:20260424T003145
CREATED:20250617T081436Z
LAST-MODIFIED:20250617T081437Z
UID:5600-1753257600-1753290000@bueadiocese.org
SUMMARY:25th Anniversary of the Provincial pastoral plan
DESCRIPTION:25th Anniversary of the Provincial pastoral plan at Bishop Rogan Minor Seminary\, Small Soppo Buea
URL:https://bueadiocese.org/event/25th-anniversary-of-the-provincial-pastoral-plan/
LOCATION:Bishop Rogan Minor Seminary
CATEGORIES:Jubilee
ATTACH;FMTTYPE=image/jpeg:https://bueadiocese.org/wp-content/uploads/2025/06/7fd37193-cb9a-4637-bbcf-fe9fec70282f.jpg
END:VEVENT
BEGIN:VEVENT
DTSTART;TZID=UTC:20250715T080000
DTEND;TZID=UTC:20250715T170000
DTSTAMP:20260424T003145
CREATED:20250617T081145Z
LAST-MODIFIED:20250617T081146Z
UID:5597-1752566400-1752598800@bueadiocese.org
SUMMARY:Diocesan Youth week Celebration
DESCRIPTION:Diocesan Youth week Celebration at St Jospeh College Sasse
URL:https://bueadiocese.org/event/diocesan-youth-week-celebration/
LOCATION:St Joseph College sasse
CATEGORIES:Diocesan event
ATTACH;FMTTYPE=image/jpeg:https://bueadiocese.org/wp-content/uploads/2023/12/07e5422d-c396-40e6-8c12-4db3d7f45954.jpeg
ORGANIZER;CN="Diocese of Buea":MAILTO:info@bueadiocese.org
END:VEVENT
BEGIN:VEVENT
DTSTART;TZID=UTC:20250711T080000
DTEND;TZID=UTC:20250711T170000
DTSTAMP:20260424T003145
CREATED:20250617T080822Z
LAST-MODIFIED:20250617T080823Z
UID:5594-1752220800-1752253200@bueadiocese.org
SUMMARY:Diocesan Feast Day Celebration "Regina Pacis"
DESCRIPTION:
URL:https://bueadiocese.org/event/diocesan-feast-day-celebration-regina-pacis/
LOCATION:Cathedral\, Small Soppo\, Small Soppo\, Buea\, South West Region\, Cameroon
CATEGORIES:Jubilee
ATTACH;FMTTYPE=image/jpeg:https://bueadiocese.org/wp-content/uploads/2025/04/8c253c49-855d-4320-9897-883764e97a7b.jpg
ORGANIZER;CN="Diocese of Buea":MAILTO:info@bueadiocese.org
END:VEVENT
BEGIN:VEVENT
DTSTART;TZID=UTC:20250706T080000
DTEND;TZID=UTC:20250706T170000
DTSTAMP:20260424T003145
CREATED:20250617T080546Z
LAST-MODIFIED:20250617T080547Z
UID:5591-1751788800-1751821200@bueadiocese.org
SUMMARY:3rd Anniversary Celebrations of DMRTV
DESCRIPTION:3rd Anniversary Celebrations of DMRTV at St Charles Lwanga parish Molyko Buea
URL:https://bueadiocese.org/event/3rd-anniversary-celebrations-of-dmrtv/
LOCATION:St Charles Lwanga Molyko\, Molyko\, Buea\, Cameroon
CATEGORIES:Jubilee
ATTACH;FMTTYPE=image/jpeg:https://bueadiocese.org/wp-content/uploads/2025/06/7fd37193-cb9a-4637-bbcf-fe9fec70282f.jpg
END:VEVENT
BEGIN:VEVENT
DTSTART;TZID=UTC:20250628T090000
DTEND;TZID=UTC:20250628T170000
DTSTAMP:20260424T003145
CREATED:20250617T080327Z
LAST-MODIFIED:20250617T080327Z
UID:5589-1751101200-1751130000@bueadiocese.org
SUMMARY:Ordination of Deacons
DESCRIPTION:Ordination of Deacons
URL:https://bueadiocese.org/event/ordination-of-deacons/
LOCATION:co-cathedral\, Molyko Buea\, Buea\, South West Region
CATEGORIES:Ordination
ATTACH;FMTTYPE=image/jpeg:https://bueadiocese.org/wp-content/uploads/2025/04/6ad5a980-266a-4a62-a67c-3ae55cca3c44.jpg
END:VEVENT
BEGIN:VEVENT
DTSTART;VALUE=DATE:20250201
DTEND;VALUE=DATE:20250202
DTSTAMP:20260424T003145
CREATED:20250123T094346Z
LAST-MODIFIED:20250123T094347Z
UID:4820-1738368000-1738454399@bueadiocese.org
SUMMARY:75th Anniversary Celebration\, Muyuka Deanery
DESCRIPTION: 75th Anniversary Celebration\, Muyuka Deanery
URL:https://bueadiocese.org/event/75th-anniversary-celebration-muyuka-deanery/
LOCATION:Muyuka Deanery\, Muyuka\, Muyuka\, South West Region\, Cameroon
CATEGORIES:75th anniversary
ATTACH;FMTTYPE=image/jpeg:https://bueadiocese.org/wp-content/uploads/2024/10/a985ded5-991f-4876-a009-3f0f1f3c2a4a.jpeg
END:VEVENT
BEGIN:VEVENT
DTSTART;TZID=UTC:20250126T090000
DTEND;TZID=UTC:20250126T150000
DTSTAMP:20260424T003145
CREATED:20250123T094030Z
LAST-MODIFIED:20250123T094511Z
UID:4818-1737882000-1737903600@bueadiocese.org
SUMMARY:Pastoral visit St. Jude Thaddeus Parish\, Dibanda
DESCRIPTION:Sunday of the Word of God/ Pastoral visit St. Jude Thaddeus Parish\, Dibanda
URL:https://bueadiocese.org/event/pastoral-visit-st-jude-thaddeus-parish-dibanda/
LOCATION:Dibanda\, Mile 14\, Dibanda\, South West Region\, Cameroon
CATEGORIES:Bishop Bibi's Program,Pastoral Visit
ATTACH;FMTTYPE=image/jpeg:https://bueadiocese.org/wp-content/uploads/2024/11/d02e47b0-651e-43a4-ad1f-120b43b2fe6d.jpg
END:VEVENT
BEGIN:VEVENT
DTSTART;TZID=UTC:20250125T080000
DTEND;TZID=UTC:20250125T170000
DTSTAMP:20260424T003145
CREATED:20250123T093711Z
LAST-MODIFIED:20250123T093712Z
UID:4815-1737792000-1737824400@bueadiocese.org
SUMMARY:Celebration of 75th anniversary Tiko Deanery
DESCRIPTION:Celebration of 75th anniversary Tiko Deanery in the presence of the Bishop of the Diocese of Buea and all the Christians in the deanery
URL:https://bueadiocese.org/event/celebration-of-75th-anniversary-tiko-deanery/
LOCATION:Tiko Deanery\, Tiko\, Tiko\, South West Region\, Cameroon
CATEGORIES:75th anniversary
ATTACH;FMTTYPE=image/jpeg:https://bueadiocese.org/wp-content/uploads/2025/01/89af4c1f-505c-4c4e-915c-89386d46f5d2.jpg
END:VEVENT
BEGIN:VEVENT
DTSTART;TZID=UTC:20250124T083000
DTEND;TZID=UTC:20250124T110000
DTSTAMP:20260424T003145
CREATED:20250123T093440Z
LAST-MODIFIED:20250123T093441Z
UID:4812-1737707400-1737716400@bueadiocese.org
SUMMARY:CWA  Visit to the Bishop
DESCRIPTION:24 Friday CWA Visit to the Bishop – 9 am
URL:https://bueadiocese.org/event/cwa-visit-to-the-bishop/
LOCATION:Bishop’s House\, Small Soppo\, Buea\, Buea\, South West Region
CATEGORIES:Bishop Bibi's Program
ATTACH;FMTTYPE=image/jpeg:https://bueadiocese.org/wp-content/uploads/2025/01/31e18a10-a808-4c1f-af9d-192c3769cf3b.jpg
END:VEVENT
BEGIN:VEVENT
DTSTART;TZID=UTC:20240922T080000
DTEND;TZID=UTC:20240922T110000
DTSTAMP:20260424T003145
CREATED:20240919T121114Z
LAST-MODIFIED:20240919T121116Z
UID:4042-1726992000-1727002800@bueadiocese.org
SUMMARY:Closing Mass of  CWA Congress at Bonadikombo
DESCRIPTION:Closing Mass of CWA Congress at Bonadikombo on 22nd September 2024 beginning 10Am
URL:https://bueadiocese.org/event/closing-mass-of-cwa-congress-at-bonadikombo/
LOCATION:Limbe Deanery\, Ngeme Parish\, Limbe\, Cameroon
CATEGORIES:Thanksgiving Mass
ATTACH;FMTTYPE=image/jpeg:https://bueadiocese.org/wp-content/uploads/2024/07/315ec223-7568-4098-b254-38ddbd95fafc.jpeg
END:VEVENT
BEGIN:VEVENT
DTSTART;TZID=UTC:20240921T100000
DTEND;TZID=UTC:20240921T100000
DTSTAMP:20260424T003145
CREATED:20240919T120705Z
LAST-MODIFIED:20240919T120810Z
UID:4039-1726912800-1726912800@bueadiocese.org
SUMMARY:Funeral Mass at Middle farms
DESCRIPTION:Funeral Mass at Middle farms 10am
URL:https://bueadiocese.org/event/funeral-mass-at-middle-farms/
LOCATION:Limbe Deanery\, Ngeme Parish\, Limbe\, Cameroon
CATEGORIES:Funeral Mass
ATTACH;FMTTYPE=image/jpeg:https://bueadiocese.org/wp-content/uploads/2024/08/8d1b7e24-e72a-4d6c-8e6c-1772be8bbcab.jpeg
END:VEVENT
BEGIN:VEVENT
DTSTART;TZID=UTC:20240813T080000
DTEND;TZID=UTC:20240813T170000
DTSTAMP:20260424T003145
CREATED:20240801T124150Z
LAST-MODIFIED:20240801T124151Z
UID:3863-1723536000-1723568400@bueadiocese.org
SUMMARY:Coverage of Pilgrimage to Bafoussam
DESCRIPTION:Coverage of Pilgrimage to Bafoussam
URL:https://bueadiocese.org/event/coverage-of-pilgrimage-to-bafoussam/
LOCATION:Bafoussam
CATEGORIES:Meeting
ATTACH;FMTTYPE=image/webp:https://bueadiocese.org/wp-content/uploads/2023/09/Kumbo.webp
END:VEVENT
BEGIN:VEVENT
DTSTART;TZID=UTC:20240811T090000
DTEND;TZID=UTC:20240811T140000
DTSTAMP:20260424T003145
CREATED:20240801T123725Z
LAST-MODIFIED:20240801T123726Z
UID:3860-1723366800-1723384800@bueadiocese.org
SUMMARY:Fundraising at Simbock
DESCRIPTION:Fundraising at Simbock 9 am live mass
URL:https://bueadiocese.org/event/fundraising-at-simbock/
LOCATION:yaounde\, Simbock\, City\, Cameroon
CATEGORIES:Support Society
ATTACH;FMTTYPE=image/jpeg:https://bueadiocese.org/wp-content/uploads/2024/07/3d3ea875-364f-4555-8992-5e7bdca8bbc2.jpeg
ORGANIZER;CN="Diocese of Buea":MAILTO:info@bueadiocese.org
END:VEVENT
BEGIN:VEVENT
DTSTART;TZID=UTC:20240810T090000
DTEND;TZID=UTC:20240810T120000
DTSTAMP:20260424T003145
CREATED:20240801T123154Z
LAST-MODIFIED:20240801T123155Z
UID:3858-1723280400-1723291200@bueadiocese.org
SUMMARY:Thanksgiving Mass for St. Clare Province
DESCRIPTION:Thanksgiving Mass for St. Clare Province 9 AM Co-Cathedral
URL:https://bueadiocese.org/event/thanksgiving-mass-for-st-clare-province/
LOCATION:co-cathedral\, Molyko Buea\, Buea\, South West Region
CATEGORIES:Thanksgiving Mass
ATTACH;FMTTYPE=image/jpeg:https://bueadiocese.org/wp-content/uploads/2024/06/d6328652-b2a3-4374-8eb4-9ef290aa6657.jpg
ORGANIZER;CN="Diocese of Buea":MAILTO:info@bueadiocese.org
END:VEVENT
BEGIN:VEVENT
DTSTART;TZID=UTC:20240809T160000
DTEND;TZID=UTC:20240809T173000
DTSTAMP:20260424T003145
CREATED:20240801T113643Z
LAST-MODIFIED:20240801T113643Z
UID:3855-1723219200-1723224600@bueadiocese.org
SUMMARY:Blessing of Franciscan House
DESCRIPTION:blessing of Franciscan House beginning 4 pm
URL:https://bueadiocese.org/event/blessing-of-franciscan-house/
CATEGORIES:Bishop Bibi's Program
ATTACH;FMTTYPE=image/jpeg:https://bueadiocese.org/wp-content/uploads/2024/03/b2ae83f0-5fe7-47a9-9e1a-9b5f884a5fa2.jpeg
ORGANIZER;CN="Diocese of Buea":MAILTO:info@bueadiocese.org
END:VEVENT
BEGIN:VEVENT
DTSTART;TZID=UTC:20240807T100000
DTEND;TZID=UTC:20240807T140000
DTSTAMP:20260424T003145
CREATED:20240801T112917Z
LAST-MODIFIED:20240801T112918Z
UID:3852-1723024800-1723039200@bueadiocese.org
SUMMARY:Education Council at the Conference Room of Bishop's House
DESCRIPTION:Education Council 10 AM at the Conference Room of Bishop’s House
URL:https://bueadiocese.org/event/education-council-at-the-conference-room-of-bishops-house/
LOCATION:Bishop’s House\, Small Soppo Buea\, Buea\, Cameroon
CATEGORIES:Meeting
ATTACH;FMTTYPE=image/jpeg:https://bueadiocese.org/wp-content/uploads/2024/05/922fb324-bcd9-48e0-bf3b-297f7546885e.jpeg
ORGANIZER;CN="Diocese of Buea":MAILTO:info@bueadiocese.org
END:VEVENT
BEGIN:VEVENT
DTSTART;TZID=UTC:20240804T090000
DTEND;TZID=UTC:20240804T150000
DTSTAMP:20260424T003145
CREATED:20240801T112626Z
LAST-MODIFIED:20240801T112627Z
UID:3847-1722762000-1722783600@bueadiocese.org
SUMMARY:Pastoral visit to St Augustine Parish\, Boma Street\, Tiko
DESCRIPTION:Pastoral visit to St Augustine Parish\, Boma Street\, Tiko  beginning 9Am
URL:https://bueadiocese.org/event/pastoral-visit-to-st-augustine-parish-boma-street-tiko/
LOCATION:St Augsutine Parish Tiko\, Boma Street\, Tiko\, South West Region\, Cameroon
ATTACH;FMTTYPE=image/png:https://bueadiocese.org/wp-content/uploads/2024/08/Screenshot_7.png
END:VEVENT
BEGIN:VEVENT
DTSTART;TZID=UTC:20240803T110000
DTEND;TZID=UTC:20240803T150000
DTSTAMP:20260424T003145
CREATED:20240801T112158Z
LAST-MODIFIED:20240801T112159Z
UID:3844-1722682800-1722697200@bueadiocese.org
SUMMARY:Golden Jubilee of the Sendze in Ngeme
DESCRIPTION:Golden Jubilee celebration of the Sendze in Ngeme beginning 11AM
URL:https://bueadiocese.org/event/golden-jubilee-of-the-sendze-in-ngeme/
LOCATION:Limbe Deanery\, Ngeme Parish\, Limbe\, Cameroon
CATEGORIES:Bishop Bibi's Program,Jubilee
ATTACH;FMTTYPE=image/jpeg:https://bueadiocese.org/wp-content/uploads/2024/07/8996be9a-cbdb-4c84-844d-720dc93431f9.jpeg
END:VEVENT
BEGIN:VEVENT
DTSTART;TZID=UTC:20240802T080000
DTEND;TZID=UTC:20240802T170000
DTSTAMP:20260424T003146
CREATED:20240801T111844Z
LAST-MODIFIED:20240801T111845Z
UID:3841-1722585600-1722618000@bueadiocese.org
SUMMARY:Visit of Fon of Bambalang to the Bishops House
DESCRIPTION:His Royal Highness\, Fon Kevin Shomitang II of Bambalang will be visiting the Bishops House on Friday 02 August 2024
URL:https://bueadiocese.org/event/visit-of-fon-of-bambalang-to-the-bishops-house/
CATEGORIES:Bishop Bibi's Program
ATTACH;FMTTYPE=image/png:https://bueadiocese.org/wp-content/uploads/2024/08/R.png
ORGANIZER;CN="Diocese of Buea":MAILTO:info@bueadiocese.org
END:VEVENT
BEGIN:VEVENT
DTSTART;TZID=UTC:20240629T090000
DTEND;TZID=UTC:20240629T150000
DTSTAMP:20260424T003146
CREATED:20240622T234316Z
LAST-MODIFIED:20240622T234317Z
UID:3624-1719651600-1719673200@bueadiocese.org
SUMMARY:Diaconal Ordination
DESCRIPTION:Diaconal ordination is scheduled for June 29th 2024 at Divine Mercy Co-cathedral\, Molyko Buea
URL:https://bueadiocese.org/event/diaconal-ordination/
LOCATION:co-cathedral\, Molyko Buea\, Buea\, South West Region
CATEGORIES:Ordination
ATTACH;FMTTYPE=image/jpeg:https://bueadiocese.org/wp-content/uploads/2024/04/b6cee668-7c89-4063-9939-04c76cffa8d0.jpeg
ORGANIZER;CN="Diocese of Buea":MAILTO:info@bueadiocese.org
END:VEVENT
BEGIN:VEVENT
DTSTART;TZID=UTC:20240626T090000
DTEND;TZID=UTC:20240626T170000
DTSTAMP:20260424T003146
CREATED:20240622T234915Z
LAST-MODIFIED:20240622T234916Z
UID:3627-1719392400-1719421200@bueadiocese.org
SUMMARY:General Assembly for REPAFIN Plc
DESCRIPTION:The Bishop of the Diocese of Buea has scheduled a general Assembly of REPAFIN PL for June 26th 2024 at Bishop Pius Awa Memorial pastoral Centre. All principals of Diocesan colleges\, parish priests\, President of Diocesan laity council\, heads of Diocesan services\, Finance controller and some Christians are expected to attend
URL:https://bueadiocese.org/event/general-assembly-for-repafin-plc/
LOCATION:Bishop Pius Awa Memorial Pastoral Centre\, Molyko\, buea\, Cameroon
CATEGORIES:Meeting
ATTACH;FMTTYPE=image/jpeg:https://bueadiocese.org/wp-content/uploads/2024/05/4a12924c-e0e8-4eb5-97fb-7e6208adfb02.jpeg
ORGANIZER;CN="Diocese of Buea":MAILTO:info@bueadiocese.org
END:VEVENT
BEGIN:VEVENT
DTSTART;TZID=UTC:20240501T080000
DTEND;TZID=UTC:20240509T170000
DTSTAMP:20260424T003146
CREATED:20240131T110204Z
LAST-MODIFIED:20240131T110205Z
UID:2700-1714550400-1715274000@bueadiocese.org
SUMMARY:Diocesan Annual Pilgrimage
DESCRIPTION:Annual Diocesan Pilgrimage to Vatican\, Italy as part of activities to mark the 75th Anniversary celebrations of the Diocese of Buea. Registration is still ongoing. Roundtrip cost 1.800\,000 frs CFA
URL:https://bueadiocese.org/event/diocesan-annual-pilgrimage/
CATEGORIES:75th anniversary
ATTACH;FMTTYPE=image/jpeg:https://bueadiocese.org/wp-content/uploads/2024/01/Pilgrimage.jpg
END:VEVENT
BEGIN:VEVENT
DTSTART;TZID=UTC:20240418T090000
DTEND;TZID=UTC:20240418T170000
DTSTAMP:20260424T003146
CREATED:20240131T104917Z
LAST-MODIFIED:20240416T131837Z
UID:2696-1713430800-1713459600@bueadiocese.org
SUMMARY:Launching of 75th Anniversary Celebrations of the Diocese of Buea
DESCRIPTION:April 18th\, 2024\, is the official launching of the 75th anniversary celebrations of the Diocese of Buea. The Launching which will begin with a Holy mass at the Divine Mercy co0cathedral Molyko Buea will officially kick starts the yearlong celebrations.
URL:https://bueadiocese.org/event/launching-of-75th-anniversary-celebrations-of-the-diocese-of-buea/
CATEGORIES:75th anniversary
ATTACH;FMTTYPE=image/jpeg:https://bueadiocese.org/wp-content/uploads/2024/01/5e269915-4688-4049-b433-239df21c92eb.jpeg
END:VEVENT
BEGIN:VEVENT
DTSTART;TZID=UTC:20231227T090000
DTEND;TZID=UTC:20231227T113000
DTSTAMP:20260424T003146
CREATED:20231219T091800Z
LAST-MODIFIED:20231219T091800Z
UID:2398-1703667600-1703676600@bueadiocese.org
SUMMARY:Annual Mass of thanksgiving for the year 2023
DESCRIPTION:I would like to invite you all to our Annual Mass of Thanksgiving for the year\n2023\, scheduled to take place on Wednesday 27h December 2023 at the Regina\nPacis Cathedral in Small Soppo starting at 11.a.m. The Heads of Services can each\ncome along with two other members of staff.
URL:https://bueadiocese.org/event/annual-mass-of-thanksgiving-for-the-year-2023/
CATEGORIES:Bishop Bibi's Program
ATTACH;FMTTYPE=application/pdf:https://bueadiocese.org/wp-content/uploads/2023/12/ANNUAL-MASS-OF-THANKSGIVING_20231211_0001.pdf
END:VEVENT
BEGIN:VEVENT
DTSTART;TZID=UTC:20231224T090000
DTEND;TZID=UTC:20231224T113000
DTSTAMP:20260424T003146
CREATED:20231219T092532Z
LAST-MODIFIED:20231219T130345Z
UID:2401-1703408400-1703417400@bueadiocese.org
SUMMARY:Christmas Vigil in the Soppo Cathedral
DESCRIPTION:Christmas Vigil in the Soppo Cathedral
URL:https://bueadiocese.org/event/christmas-vigil-in-the-soppo-cathedral/
CATEGORIES:Bishop Bibi's Program
ATTACH;FMTTYPE=image/jpeg:https://bueadiocese.org/wp-content/uploads/2023/12/f83bda6a-5ba7-4c58-b788-63431e2e95d6.jpeg
END:VEVENT
BEGIN:VEVENT
DTSTART;TZID=UTC:20231119T090000
DTEND;TZID=UTC:20231119T150000
DTSTAMP:20260424T003146
CREATED:20231115T092703Z
LAST-MODIFIED:20231115T092703Z
UID:2100-1700384400-1700406000@bueadiocese.org
SUMMARY:Pastoral Visit to Muea at 9 a.m.
DESCRIPTION:Pastoral Visit to Muea at 9 a.m.
URL:https://bueadiocese.org/event/pastoral-visit-to-muea-at-9-a-m/
LOCATION:Muea\, Muea\, Buea\, South West Region\, Cameroon
ATTACH;FMTTYPE=image/jpeg:https://bueadiocese.org/wp-content/uploads/2023/11/muea.jpg
END:VEVENT
BEGIN:VEVENT
DTSTART;TZID=UTC:20231118T090000
DTEND;TZID=UTC:20231118T153000
DTSTAMP:20260424T003146
CREATED:20231115T092316Z
LAST-MODIFIED:20231115T092409Z
UID:2095-1700298000-1700321400@bueadiocese.org
SUMMARY:Pastoral Visit to Yoke at 9 a.m.
DESCRIPTION:Pastoral Visit to Yoke at 9 a.m.
URL:https://bueadiocese.org/event/pastoral-visit-to-yoke-at-9-a-m/
LOCATION:Yoke\, Yoke\, Cameroon
CATEGORIES:Bishop Bibi's Program
ATTACH;FMTTYPE=image/jpeg:https://bueadiocese.org/wp-content/uploads/2023/11/bojongo.jpg
END:VEVENT
END:VCALENDAR